BEGIN:VCALENDAR
VERSION:2.0
PRODID:-//Fort Lauderdale CRA - ECPv6.15.20//NONSGML v1.0//EN
CALSCALE:GREGORIAN
METHOD:PUBLISH
X-WR-CALNAME:Fort Lauderdale CRA
X-ORIGINAL-URL:https://fortlauderdalecra.com
X-WR-CALDESC:Events for Fort Lauderdale CRA
REFRESH-INTERVAL;VALUE=DURATION:PT1H
X-Robots-Tag:noindex
X-PUBLISHED-TTL:PT1H
BEGIN:VTIMEZONE
TZID:America/New_York
BEGIN:DAYLIGHT
TZOFFSETFROM:-0500
TZOFFSETTO:-0400
TZNAME:EDT
DTSTART:20150308T070000
END:DAYLIGHT
BEGIN:STANDARD
TZOFFSETFROM:-0400
TZOFFSETTO:-0500
TZNAME:EST
DTSTART:20151101T060000
END:STANDARD
BEGIN:DAYLIGHT
TZOFFSETFROM:-0500
TZOFFSETTO:-0400
TZNAME:EDT
DTSTART:20160313T070000
END:DAYLIGHT
BEGIN:STANDARD
TZOFFSETFROM:-0400
TZOFFSETTO:-0500
TZNAME:EST
DTSTART:20161106T060000
END:STANDARD
BEGIN:DAYLIGHT
TZOFFSETFROM:-0500
TZOFFSETTO:-0400
TZNAME:EDT
DTSTART:20170312T070000
END:DAYLIGHT
BEGIN:STANDARD
TZOFFSETFROM:-0400
TZOFFSETTO:-0500
TZNAME:EST
DTSTART:20171105T060000
END:STANDARD
END:VTIMEZONE
BEGIN:VTIMEZONE
TZID:UTC
BEGIN:STANDARD
TZOFFSETFROM:+0000
TZOFFSETTO:+0000
TZNAME:UTC
DTSTART:20150101T000000
END:STANDARD
END:VTIMEZONE
BEGIN:VEVENT
DTSTART;TZID=America/New_York:20161029T200000
DTEND;TZID=America/New_York:20161029T200000
DTSTAMP:20260424T023420
CREATED:20160817T203657Z
LAST-MODIFIED:20160817T203657Z
UID:6206-1477771200-1477771200@fortlauderdalecra.com
SUMMARY:Fort Lauderdale Art Walk
DESCRIPTION:
URL:https://fortlauderdalecra.com/event/fort-lauderdale-art-walk-3/
LOCATION:FL
END:VEVENT
BEGIN:VEVENT
DTSTART;TZID=UTC:20161025T080000
DTEND;TZID=UTC:20161025T170000
DTSTAMP:20260424T023420
CREATED:20161013T030053Z
LAST-MODIFIED:20161013T201836Z
UID:6419-1477382400-1477414800@fortlauderdalecra.com
SUMMARY:Fort Lauderdale Village District Open House
DESCRIPTION:[vc_row row_type=”row” use_row_as_full_screen_section=”no” type=”full_width” angled_section=”no” text_align=”left” background_image_as_pattern=”without_pattern” css_animation=””][vc_column][vc_column_text]Our 3 distinct neighborhoods – Historic Sistrunk\, Progresso Village\, and Flagler Village invite you learn about our programs and services. We want you to expand\, relocate\, or open your new business in the heart of Fort Lauderdale. Learn about future development plans\, investments and redevelopment opportunities. Incentive programs are available for business owners and for commercial and residential development.[/vc_column_text][/vc_column][vc_column][vc_column_text] \n\n \nPowered by Eventbrite\n\n[/vc_column_text][/vc_column][/vc_row]
URL:https://fortlauderdalecra.com/event/fort-lauderdale-village-district-open-house/
LOCATION:Fort Lauderdale CRA Office\, 914 Northwest 6th Street Suite 200\, Fort Lauderdale\, FL\, 333311\, United States
END:VEVENT
BEGIN:VEVENT
DTSTART;TZID=UTC:20161022T100000
DTEND;TZID=UTC:20161022T170000
DTSTAMP:20260424T023420
CREATED:20161019T222028Z
LAST-MODIFIED:20161019T222028Z
UID:6448-1477130400-1477155600@fortlauderdalecra.com
SUMMARY:Progresso Village Ribbon Cutting
DESCRIPTION:
URL:https://fortlauderdalecra.com/event/progresso-village-ribbon-cutting/
LOCATION:FL
END:VEVENT
BEGIN:VEVENT
DTSTART;TZID=UTC:20161018T180000
DTEND;TZID=UTC:20161018T193000
DTSTAMP:20260424T023420
CREATED:20160817T210249Z
LAST-MODIFIED:20160817T210249Z
UID:6229-1476813600-1476819000@fortlauderdalecra.com
SUMMARY:City Commission Regular Meeting
DESCRIPTION:
URL:https://fortlauderdalecra.com/event/city-commission-regular-meeting-3/
LOCATION:City Hall\, Commission Chambers\, 100 N. Andrews Avenue\, Fort Lauderdale\, FL\, 33301\, United States
END:VEVENT
BEGIN:VEVENT
DTSTART;TZID=UTC:20161018T133000
DTEND;TZID=UTC:20161018T150000
DTSTAMP:20260424T023420
CREATED:20160817T205627Z
LAST-MODIFIED:20160817T205627Z
UID:6222-1476797400-1476802800@fortlauderdalecra.com
SUMMARY:City Commission Conference Meeting
DESCRIPTION:
URL:https://fortlauderdalecra.com/event/city-commission-conference-meeting-4/
LOCATION:City Hall\, 8th Floor Conference Room\, 100 N. Andrews Avenue\, Fort Lauderdale\, FL\, 33301\, United States
END:VEVENT
BEGIN:VEVENT
DTSTART;TZID=America/New_York:20161015T100000
DTEND;TZID=America/New_York:20161015T150000
DTSTAMP:20260424T023420
CREATED:20161011T230105Z
LAST-MODIFIED:20161011T230105Z
UID:6408-1476525600-1476543600@fortlauderdalecra.com
SUMMARY:Open Streets Fort Lauderdale
DESCRIPTION:Discover! Engage! Play! Celebrate! all on one of Fort Lauderdale’s most popular thoroughfares\, but without cars. Open Streets Fort Lauderdale will transform N. Andrews Avenue into a fun\, activity filled “playground” for recreational activities\, such as walking\, skating\, bicycling\, dancing\, rollerblading\, and more. If you really want to see firsthand what Open Streets is all about check out the photo gallery  \nScheduled Events \nPlease be sure to check back regularly.  New events will be added as they are received.\n Time 	 Event 	 Location\n 10:00 a.m. 	 Group Bike Ride with Mayor Seiler 	 Entire Route\n 10:30 a.m. 	 Zumba with Cindy  	 City Hall\n 11:00 a.m. 	 One Mile Fun Run  	 Entire Route\n 11:30 a.m. 	 Encore Dance Theater Performance 	 City Hall\n 12:00 p.m.  	 Gold Coast Derby Grrls Group Skate 	 Entire Route\n 12:30 p.m. 	 Zumba with Kathy 	 City Hall\n  1:00 p.m.  	 Fort Lauderdale High Marching Band and Cheerleaders 	 Entire Route\n  1:30 p.m. 	 GirlTrek Walk 	 Entire Route\n  2:00 p.m. 	 African Dance with Narsha 	 City Hall\n  2:30 p.m. 	 Parade the Route with All Modes of Transportation and Day  of the Dead Puppets 	 Entire Route \nActivities  \nOpen Streets Fort Lauderdale offers a variety of family-friendly recreational\, cultural\, educational and safety-related activities throughout the day\, many of which encourage attendees to get involved. Make sure to keep checking back as new activities are being added every day.  \nOpen Streets Traffic Advisory \nThe following traffic restrictions will be in effect on Saturday\, October 15\, 2016 from 8 a.m. to 5 p.m. for the Open Streets FortRoute map OS 2016 Lauderdale event. These restrictions will affect N. Andrews Avenue and surrounding neighborhoods. Motorists should expect traffic delays in and around the affected area and are encouraged to follow posted detour signs and travel slowly in the area to ensure the safety of pedestrians\, bicyclists\, and other motorists.  \nFull Road Closures \n    N Andrews Avenue between NE/NW 1 Street and NE/NW 7 Street\n    NW 1 Avenue between NW 6 Street/Sistrunk Boulevard and NW 5 Street\n    NW 5 Street between N Andrews Avenue and NW Flagler Avenue\n    NW Flagler Avenue between NW 4 Street and NW 5 Street\n    NW 2 Street between N Andrews Avenue and NW 1 Avenue/Brickell Avenue \nDetour information \n    Northbound traffic on S Andrews Avenue will be detoured east on E Broward Boulevard to NE 3 Avenue.\n    Southbound traffic on N Andrews Avenue will be detoured east on E Sunrise Boulevard to NE 4 Avenue.\n    Westbound traffic on NW 4 Street will be detoured to NW 7 Avenue/Avenue of the Arts to NW 6 Street/Sistrunk Bouelvard.\n    Eastbound traffic on NE 4 Street will be detoured to NE 3 Avenue and then to NE 6 Street/Sistrunk Boulevard. \nOther important information \n    The intersection of NE/NW 6 Street/Sistrunk Boulevard and N Andrews Avenue will remain open for east-west traffic. Single lane closures should be expected.\n    Southbound traffic on N Flagler Drive may exit north to N Andrews Avenue. \nTransportation Options \nWhy not consider an environmentally-friendly approach to getting to Open Streets ? Leave your car at home and either walk\, bike\, carpool\, or take advantage of one of the many alternative modes of transportation below that will get you to the event. By doing so you’ll save gas and energy\, reduce traffic congestion\, improve air quality\, and avoid the hassle of sitting in traffic and finding parking.  \nBroward B-Cycle\nBroward County Transit\nSun Trolley\nTri-Rail\nFree Bike Valet \nRide your bike to Open Streets and park it in a safe location using the FREE Bike Valet. Check back soon for the Bike Valet location.\nConnect with Us! \nWe invite you to connect with us using social media to “follow” the City of Fort Lauderdale on Facebook\, Twitter\, and Instagram and “like\,” “share\,” “retweet\,” and “favorite” Open Streets and other City news and happenings. Be sure to use #OpenStreetsFTL in your social media  posts and “join” the Open Streets Facebook event page for updates\, pop quizzes\, trivia and just fun facts about Open Streets. While you’re there “share\,” and let us know you’ll be there.
URL:https://fortlauderdalecra.com/event/open-streets-fort-lauderdale/
LOCATION:FL
ATTACH;FMTTYPE=image/jpeg:https://fortlauderdalecra.com/wp-content/uploads/2016/10/3394-Open-Streets-Event-Oct-2016_flyer-WEB.jpg
END:VEVENT
BEGIN:VEVENT
DTSTART;TZID=America/New_York:20161014T170000
DTEND;TZID=America/New_York:20161014T230000
DTSTAMP:20260424T023420
CREATED:20160817T204432Z
LAST-MODIFIED:20160817T204432Z
UID:6213-1476464400-1476486000@fortlauderdalecra.com
SUMMARY:Food In Motion at Peter Feldman Park in Fort Lauderdale
DESCRIPTION:Join local artisans\, farmers\, and food trucks on the second Friday of each month at Peter Feldman Park from 5-11pm for FOOD IN MOTION; An after dark green market & artisan food event!\nEvent Highlights \n    Artisan Food Market\n    Fresh Produce\n    Food Trucks\n    Live Music\n    Vegan Options\n    Gourmet Baked Goods\n    Locally Made Products & More \nFlagler Village Farm\n– Fresh Picked Organic Produce on Site\n– Meet Local Farmers\n– Learn About Urban Farming in FTL \nNighttime in the Park\n– FREE Beer for 21+\n– Picnic In The Park (Bring a blanket or chair!)\n– Open Playground for Kids\n– Bring Your Own: Board Games\, Crafts & Activities \nFREE ADMISSION. Free street parking nearby.
URL:https://fortlauderdalecra.com/event/food-in-motion-at-peter-feldman-park-in-fort-lauderdale-2/
LOCATION:Peter Feldman Park\, 310 NE 6th Street\, Fort Lauderdale\, FL\, 33304\, United States
ATTACH;FMTTYPE=image/jpeg:https://fortlauderdalecra.com/wp-content/uploads/2016/08/Food-in-Motion.jpg
END:VEVENT
BEGIN:VEVENT
DTSTART;TZID=UTC:20161010T170000
DTEND;TZID=UTC:20161010T170000
DTSTAMP:20260424T023420
CREATED:20160930T214858Z
LAST-MODIFIED:20160930T214858Z
UID:6392-1476118800-1476118800@fortlauderdalecra.com
SUMMARY:Calling All Creatives & Artists: Destination Sistrunk Cultural Marketplace (Participation Deadline)
DESCRIPTION:Deadline to apply: October 10\, 2016 5:00pm \nMore Information Here
URL:https://fortlauderdalecra.com/event/calling-all-creatives-artists-destination-sistrunk-cultural-marketplace-participation-deadline/
LOCATION:Delevoe Park\, 2520 NW 6th St\, Fort Lauderdale\, FL\, 33311\, United States
END:VEVENT
BEGIN:VEVENT
DTSTART;TZID=America/New_York:20161006T200000
DTEND;TZID=America/New_York:20161006T235500
DTSTAMP:20260424T023420
CREATED:20161003T210008Z
LAST-MODIFIED:20161003T210544Z
UID:6397-1475784000-1475798100@fortlauderdalecra.com
SUMMARY:Throwback Thursday Vinyl Night
DESCRIPTION:We’re throwin’ it back to the old school with our first Throwback Thursday Vinyl Night – a strictly vinyl DJ set by Blue – on Thursday\, October 6 from 8 PM – 12 AM. \nSetting up his tables and busting out the crates for 4 hours of old school hip-hop\, soul\, funk\, reggae\, rock\, house and more\, DJ Blue is bringing those crafty beats to accompany the crafty beverages at Flagler Village Brewery & The Brass Tap Fort Lauderdale. \nHaving performed around the country\, won Churchill Miami’s vinyl spinning contest\, contributed as a vinyl/music culture columnist for CNN\, and earned accolades as one of the top DJs in South Florida\, Blue knows exactly how to set the vibe to keep you moving throughout the evening. \nRSVP for event updates and more information coming soon.
URL:https://fortlauderdalecra.com/event/throwback-thursday-vinyl-night/
LOCATION:Flagler Village Brewery\, 551 N Federal Hwy. #600\,\, Fort Lauderdale\, FL\, 33301\, United States
END:VEVENT
BEGIN:VEVENT
DTSTART;TZID=UTC:20161005T180000
DTEND;TZID=UTC:20161005T193000
DTSTAMP:20260424T023420
CREATED:20160817T210152Z
LAST-MODIFIED:20160817T210152Z
UID:6228-1475690400-1475695800@fortlauderdalecra.com
SUMMARY:City Commission Regular Meeting
DESCRIPTION:
URL:https://fortlauderdalecra.com/event/city-commission-regular-meeting-2/
LOCATION:City Hall\, Commission Chambers\, 100 N. Andrews Avenue\, Fort Lauderdale\, FL\, 33301\, United States
END:VEVENT
BEGIN:VEVENT
DTSTART;TZID=UTC:20161005T133000
DTEND;TZID=UTC:20161005T150000
DTSTAMP:20260424T023420
CREATED:20160817T205525Z
LAST-MODIFIED:20160817T205525Z
UID:6221-1475674200-1475679600@fortlauderdalecra.com
SUMMARY:City Commission Conference Meeting
DESCRIPTION:
URL:https://fortlauderdalecra.com/event/city-commission-conference-meeting-3/
LOCATION:City Hall\, 8th Floor Conference Room\, 100 N. Andrews Avenue\, Fort Lauderdale\, FL\, 33301\, United States
END:VEVENT
BEGIN:VEVENT
DTSTART;TZID=America/New_York:20160924T200000
DTEND;TZID=America/New_York:20160924T200000
DTSTAMP:20260424T023420
CREATED:20160817T203536Z
LAST-MODIFIED:20160817T203537Z
UID:6205-1474747200-1474747200@fortlauderdalecra.com
SUMMARY:Fort Lauderdale Art Walk
DESCRIPTION:
URL:https://fortlauderdalecra.com/event/fort-lauderdale-art-walk-2/
LOCATION:FL
END:VEVENT
BEGIN:VEVENT
DTSTART;TZID=UTC:20160920T180000
DTEND;TZID=UTC:20160920T200000
DTSTAMP:20260424T023420
CREATED:20160817T205113Z
LAST-MODIFIED:20160817T205238Z
UID:6218-1474394400-1474401600@fortlauderdalecra.com
SUMMARY:City Commission Regular Meeting
DESCRIPTION:
URL:https://fortlauderdalecra.com/event/city-commission-regular-meeting/
LOCATION:City Hall\, Commission Chambers\, 100 N. Andrews Avenue\, Fort Lauderdale\, FL\, 33301\, United States
END:VEVENT
BEGIN:VEVENT
DTSTART;TZID=UTC:20160920T133000
DTEND;TZID=UTC:20160920T150000
DTSTAMP:20260424T023420
CREATED:20160817T205400Z
LAST-MODIFIED:20160817T205400Z
UID:6220-1474378200-1474383600@fortlauderdalecra.com
SUMMARY:City Commission Conference Meeting
DESCRIPTION:
URL:https://fortlauderdalecra.com/event/city-commission-conference-meeting-2/
LOCATION:City Hall\, 8th Floor Conference Room\, 100 N. Andrews Avenue\, Fort Lauderdale\, FL\, 33301\, United States
END:VEVENT
BEGIN:VEVENT
DTSTART;TZID=UTC:20160918T160000
DTEND;TZID=UTC:20160918T200000
DTSTAMP:20260424T023420
CREATED:20160912T210646Z
LAST-MODIFIED:20160912T210646Z
UID:6302-1474214400-1474228800@fortlauderdalecra.com
SUMMARY:The Black Archives presents *ICONS*
DESCRIPTION:The Black Archives presents \n*ICONS*\nhosted by \nDerek T. Davis – Old Dillard Museum \nft. GARTH C. REEVES\, SR.
URL:https://fortlauderdalecra.com/event/the-black-archives-presents-icons/
LOCATION:Historic Lyric Theater Cultural Complex\, 819 NW 2nd Avenue\, Miami\, FL\, 33136\, United States
END:VEVENT
BEGIN:VEVENT
DTSTART;TZID=UTC:20160917T193000
DTEND;TZID=UTC:20160917T213000
DTSTAMP:20260424T023420
CREATED:20160912T210328Z
LAST-MODIFIED:20160912T210328Z
UID:6300-1474140600-1474147800@fortlauderdalecra.com
SUMMARY:Cannonball Jazz Birthday Concert
DESCRIPTION:Old Dillard Museum & Dillard Center for the Arts \npresent \nCannonball Jazz Birthday Concert \nft World Renowned Jazz Drummer from the Legendary Cannonball Adderley Quintet \nLouis Hayes & the DCA Jazz Ensemble
URL:https://fortlauderdalecra.com/event/cannonball-jazz-birthday-concert/
LOCATION:Old Dillard Museum\, 1009 NW 4th St.\, Ft. Lauderdale\, FL\, United States
END:VEVENT
BEGIN:VEVENT
DTSTART;TZID=America/New_York:20160909T170000
DTEND;TZID=America/New_York:20160909T230000
DTSTAMP:20260424T023420
CREATED:20160817T204336Z
LAST-MODIFIED:20160817T204336Z
UID:6209-1473440400-1473462000@fortlauderdalecra.com
SUMMARY:Food In Motion at Peter Feldman Park in Fort Lauderdale
DESCRIPTION:Join local artisans\, farmers\, and food trucks on the second Friday of each month at Peter Feldman Park from 5-11pm for FOOD IN MOTION; An after dark green market & artisan food event!\nEvent Highlights \n    Artisan Food Market\n    Fresh Produce\n    Food Trucks\n    Live Music\n    Vegan Options\n    Gourmet Baked Goods\n    Locally Made Products & More \nFlagler Village Farm\n– Fresh Picked Organic Produce on Site\n– Meet Local Farmers\n– Learn About Urban Farming in FTL \nNighttime in the Park\n– FREE Beer for 21+\n– Picnic In The Park (Bring a blanket or chair!)\n– Open Playground for Kids\n– Bring Your Own: Board Games\, Crafts & Activities \nFREE ADMISSION. Free street parking nearby.
URL:https://fortlauderdalecra.com/event/food-in-motion-at-peter-feldman-park-in-fort-lauderdale/
LOCATION:Peter Feldman Park\, 310 NE 6th Street\, Fort Lauderdale\, FL\, 33304\, United States
ATTACH;FMTTYPE=image/jpeg:https://fortlauderdalecra.com/wp-content/uploads/2016/08/Food-in-Motion.jpg
END:VEVENT
BEGIN:VEVENT
DTSTART;TZID=America/New_York:20160907T133000
DTEND;TZID=America/New_York:20160907T150000
DTSTAMP:20260424T023420
CREATED:20160817T204911Z
LAST-MODIFIED:20160817T204911Z
UID:6216-1473255000-1473260400@fortlauderdalecra.com
SUMMARY:City Commission Conference Meeting
DESCRIPTION:
URL:https://fortlauderdalecra.com/event/city-commission-conference-meeting/
LOCATION:City Hall\, 8th Floor Conference Room\, 100 N. Andrews Avenue\, Fort Lauderdale\, FL\, 33301\, United States
END:VEVENT
BEGIN:VEVENT
DTSTART;TZID=UTC:20160827T200000
DTEND;TZID=UTC:20160827T200000
DTSTAMP:20260424T023420
CREATED:20160817T203220Z
LAST-MODIFIED:20160817T203220Z
UID:6204-1472328000-1472328000@fortlauderdalecra.com
SUMMARY:Fort Lauderdale Art Walk
DESCRIPTION:
URL:https://fortlauderdalecra.com/event/fort-lauderdale-art-walk/
LOCATION:FL
END:VEVENT
BEGIN:VEVENT
DTSTART;TZID=America/New_York:20160825T183000
DTEND;TZID=America/New_York:20160825T203000
DTSTAMP:20260424T023420
CREATED:20160817T233055Z
LAST-MODIFIED:20160817T233055Z
UID:6267-1472149800-1472157000@fortlauderdalecra.com
SUMMARY:Smooth Scaling: What does it take to scale your startup?
DESCRIPTION:The first couple of years as a startup are the hardest. But once an entrepreneur gets past that\, the question becomes\, “Now what?” \nFor most businesses\, the answer is an obvious one – “grow!” This typically means expanding the company to include more products\, more capital\, and more people.\nThese can be exciting times\, but with remarkable growth comes many challenges. Join Endeavor Miami for a panel discussion on scaling and the power of professional networks. \nModerated by Laura Maydón\, Managing Director of Endeavor Miami. \nPanelists:\n– Don Montanaro\nCEO of TradeKing Group; Endeavor Mentor \n– Marcell Haywood\nCEO of Encompass Onsite; Endeavor Entrepreneur \n– Andy Sturner\nExecutive Chairman of Boatsetter: Entrepreneur in Endeavor process
URL:https://fortlauderdalecra.com/event/smooth-scaling-what-does-it-take-to-scale-your-startup/
LOCATION:General Provision\, 525 NW 1st Ave\, Ft. Lauderdale\, FL\, United States
ATTACH;FMTTYPE=image/jpeg:https://fortlauderdalecra.com/wp-content/uploads/2016/08/FB-1038x576.jpg
END:VEVENT
BEGIN:VEVENT
DTSTART;TZID=America/New_York:20160507T100000
DTEND;TZID=America/New_York:20160507T140000
DTSTAMP:20260424T023420
CREATED:20160503T193312Z
LAST-MODIFIED:20160503T193312Z
UID:5884-1462615200-1462629600@fortlauderdalecra.com
SUMMARY:Small Business Saturday
DESCRIPTION:Small Business Saturday is an outdoor business expo that will showcase restaurants\, food trucks\, pop-up businesses\, retailers\, professional services\, activated art spaces\, and Small Business Week event sponsors. Event-goers will have the opportunity to shop small\, local and have their dollar make a big impact on the local economy. The event will start at Sistrunk Park\, and attendees will be able to ride the trolley to six other stops throughout Fort Lauderdale Village District.\nApply for Vendor Space
URL:https://fortlauderdalecra.com/event/small-business-saturday/
LOCATION:Sistrunk Park\, 200 Sistrunk Blvd.\, Ft. Lauderdale\, FL\, United States
CATEGORIES:SBW2016
ATTACH;FMTTYPE=image/jpeg:https://fortlauderdalecra.com/wp-content/uploads/2016/05/SBW-FTL-May7-IG.jpg
END:VEVENT
BEGIN:VEVENT
DTSTART;TZID=America/New_York:20160506T083000
DTEND;TZID=America/New_York:20160506T120000
DTSTAMP:20260424T023420
CREATED:20160503T193036Z
LAST-MODIFIED:20160504T193936Z
UID:5882-1462523400-1462536000@fortlauderdalecra.com
SUMMARY:Small Business Conference
DESCRIPTION:The Small Business Conference is a one-day event you don’t want to miss. The conference will include a series of workshops and panels geared towards the development\, capacity building and enhancement of local small businesses. Topics will include: Doing Business with the City of Fort Lauderdale\, Get Money: How to Get Your Business Funded\, Marketing in the Digital Era\, and ABCs for Entrepreneurs. Lunch will be provided and attendees will be able to tour the venue\, which is the Old Dillard Museum. Be sure to register today as seats are limited.\nRegister Here  \nSCHEDULE\n8:30- 9:00am Registration and continental breakfast\n9:00-9:15 Opening remarks\n9:15-10:00 Keynote Address\n10:00-10:45 1st group of workshops\nDoing Business with the City of Fort Lauderdale: City Staff\nMarketing in the Digital Era: Ceci Dadisman\n11:00-11:45 2nd Group of workshops\nGet Money: How to Get Funded: SBA & Urban League\nABCs of Entrepreneurship: SCORE representative \n12:00 – 1:00pm Brown Bag Lunch and Closing remarks by  \n1:30pm Small Business Day Mixer
URL:https://fortlauderdalecra.com/event/small-business-conference/
LOCATION:Old Dillard Museum\, 1009 NW 4th St.\, Ft. Lauderdale\, FL\, United States
CATEGORIES:SBW2016
ATTACH;FMTTYPE=image/jpeg:https://fortlauderdalecra.com/wp-content/uploads/2016/05/SBW-FTL-May6-IG.jpg
END:VEVENT
BEGIN:VEVENT
DTSTART;TZID=America/New_York:20160505T203000
DTEND;TZID=America/New_York:20160505T213000
DTSTAMP:20260424T023420
CREATED:20160503T192642Z
LAST-MODIFIED:20160503T192642Z
UID:5877-1462480200-1462483800@fortlauderdalecra.com
SUMMARY:Money Matters Mixer
DESCRIPTION:Join us as we kick-off Small Business Week Fort Lauderdale with a networking event unlike any other. Come and enjoy live entertainment\, networking\, and a Taste of the Village District at General Provision in FAT Village. For the Taste of the Village District\, attendees will be able to sample select dishes from some of the Village District’s best restaurants. To top it all off\, attendees will also have the opportunity to enter the raffle and walk away with a cash prize! \n  \nRSVP now!
URL:https://fortlauderdalecra.com/event/money-matters-mixer/
LOCATION:General Provision\, 525 NW 1st Ave\, Ft. Lauderdale\, FL\, United States
CATEGORIES:SBW2016
ATTACH;FMTTYPE=image/jpeg:https://fortlauderdalecra.com/wp-content/uploads/2016/05/SBW-FTL-May5-IG.jpg
END:VEVENT
END:VCALENDAR