BEGIN:VCALENDAR
VERSION:2.0
PRODID:-//Fort Lauderdale CRA - ECPv6.15.20//NONSGML v1.0//EN
CALSCALE:GREGORIAN
METHOD:PUBLISH
X-WR-CALNAME:Fort Lauderdale CRA
X-ORIGINAL-URL:https://fortlauderdalecra.com
X-WR-CALDESC:Events for Fort Lauderdale CRA
REFRESH-INTERVAL;VALUE=DURATION:PT1H
X-Robots-Tag:noindex
X-PUBLISHED-TTL:PT1H
BEGIN:VTIMEZONE
TZID:UTC
BEGIN:STANDARD
TZOFFSETFROM:+0000
TZOFFSETTO:+0000
TZNAME:UTC
DTSTART:20150101T000000
END:STANDARD
END:VTIMEZONE
BEGIN:VTIMEZONE
TZID:America/New_York
BEGIN:DAYLIGHT
TZOFFSETFROM:-0500
TZOFFSETTO:-0400
TZNAME:EDT
DTSTART:20150308T070000
END:DAYLIGHT
BEGIN:STANDARD
TZOFFSETFROM:-0400
TZOFFSETTO:-0500
TZNAME:EST
DTSTART:20151101T060000
END:STANDARD
BEGIN:DAYLIGHT
TZOFFSETFROM:-0500
TZOFFSETTO:-0400
TZNAME:EDT
DTSTART:20160313T070000
END:DAYLIGHT
BEGIN:STANDARD
TZOFFSETFROM:-0400
TZOFFSETTO:-0500
TZNAME:EST
DTSTART:20161106T060000
END:STANDARD
BEGIN:DAYLIGHT
TZOFFSETFROM:-0500
TZOFFSETTO:-0400
TZNAME:EDT
DTSTART:20170312T070000
END:DAYLIGHT
BEGIN:STANDARD
TZOFFSETFROM:-0400
TZOFFSETTO:-0500
TZNAME:EST
DTSTART:20171105T060000
END:STANDARD
END:VTIMEZONE
BEGIN:VEVENT
DTSTART;TZID=UTC:20170428T173000
DTEND;TZID=UTC:20170428T200000
DTSTAMP:20260423T200341
CREATED:20170301T030943Z
LAST-MODIFIED:20170301T031045Z
UID:6679-1493400600-1493409600@fortlauderdalecra.com
SUMMARY:New Visions CDC Launch\, 5:30 - 8pm\, Floridian Ballroom\, Pembroke Pines
DESCRIPTION:New Visions Launch CELEBRATION Final 2.20.17
URL:https://fortlauderdalecra.com/event/new-visions-cdc-launch-530-8pm-floridian-ballroom-pembroke-pines/
END:VEVENT
BEGIN:VEVENT
DTSTART;TZID=UTC:20170424T173000
DTEND;TZID=UTC:20170424T190000
DTSTAMP:20260423T200341
CREATED:20170414T004928Z
LAST-MODIFIED:20170414T004928Z
UID:6691-1493055000-1493060400@fortlauderdalecra.com
SUMMARY:Fort Lauderdale Village District Open House - April 24\, 2017 Midtown Commerce Center - 1033 Sistrunk Blvd
DESCRIPTION:
URL:https://fortlauderdalecra.com/event/fort-lauderdale-village-district-open-house-april-24-2017-midtown-commerce-center-1033-sistrunk-blvd/
END:VEVENT
BEGIN:VEVENT
DTSTART;TZID=UTC:20170411T030000
DTEND;TZID=UTC:20170411T170000
DTSTAMP:20260423T200341
CREATED:20170215T215218Z
LAST-MODIFIED:20170215T215218Z
UID:6672-1491879600-1491930000@fortlauderdalecra.com
SUMMARY:NPF Advisory Board Mtg
DESCRIPTION:
URL:https://fortlauderdalecra.com/event/npf-advisory-board-mtg-2/
END:VEVENT
BEGIN:VEVENT
DTSTART;TZID=UTC:20170314T153000
DTEND;TZID=UTC:20170314T170000
DTSTAMP:20260423T200341
CREATED:20170215T205536Z
LAST-MODIFIED:20170215T205536Z
UID:6670-1489505400-1489510800@fortlauderdalecra.com
SUMMARY:NPF Advisory Board Mtg
DESCRIPTION:
URL:https://fortlauderdalecra.com/event/npf-advisory-board-mtg/
LOCATION:City Hall\, 8th Floor Conference Room\, 100 N. Andrews Avenue\, Fort Lauderdale\, FL\, 33301\, United States
END:VEVENT
BEGIN:VEVENT
DTSTART;TZID=UTC:20170227T173000
DTEND;TZID=UTC:20170227T190000
DTSTAMP:20260423T200341
CREATED:20170208T015908Z
LAST-MODIFIED:20170208T015908Z
UID:6656-1488216600-1488222000@fortlauderdalecra.com
SUMMARY:Networking with the Neighbors Event - 405 N Ave of the Arts\,
DESCRIPTION:
URL:https://fortlauderdalecra.com/event/networking-with-the-neighbors-event-405-n-ave-of-the-arts/
END:VEVENT
BEGIN:VEVENT
DTSTART;TZID=UTC:20170227T053000
DTEND;TZID=UTC:20170227T190000
DTSTAMP:20260423T200341
CREATED:20170227T172933Z
LAST-MODIFIED:20170227T172933Z
UID:6676-1488173400-1488222000@fortlauderdalecra.com
SUMMARY:Networking with the Neighbors\, 5:30 - 7pm\, 405 N Ave of the Arts
DESCRIPTION:
URL:https://fortlauderdalecra.com/event/networking-with-the-neighbors-530-7pm-405-n-ave-of-the-arts/
LOCATION:Avenue Executive\, 405 NW 7th Avenue\, Fort Lauderdale \, 33311\, United States
END:VEVENT
BEGIN:VEVENT
DTSTART;TZID=UTC:20170225T090000
DTEND;TZID=UTC:20170225T190000
DTSTAMP:20260423T200341
CREATED:20170126T013700Z
LAST-MODIFIED:20170126T013700Z
UID:6651-1488013200-1488049200@fortlauderdalecra.com
SUMMARY:Sistrunk Festival and Parade  – One cause three Events (Feb 9\, Feb 25\, May 19 )
DESCRIPTION:
URL:https://fortlauderdalecra.com/event/sistrunk-festival-and-parade-one-cause-three-events-feb-9-feb-25-may-19-2/
END:VEVENT
BEGIN:VEVENT
DTSTART;TZID=UTC:20170225T060000
DTEND;TZID=UTC:20170225T143000
DTSTAMP:20260423T200341
CREATED:20170208T073004Z
LAST-MODIFIED:20170208T073004Z
UID:6666-1488002400-1488033000@fortlauderdalecra.com
SUMMARY:Sistrunk 5k - Delevoe Park - Registration 6am\,  with 7am Race Time
DESCRIPTION:
URL:https://fortlauderdalecra.com/event/sistrunk-5k-delevoe-park-registration-6am-with-7am-race-time/
END:VEVENT
BEGIN:VEVENT
DTSTART;TZID=UTC:20170211T090000
DTEND;TZID=UTC:20170211T140000
DTSTAMP:20260423T200341
CREATED:20170208T020423Z
LAST-MODIFIED:20170208T020423Z
UID:6659-1486803600-1486821600@fortlauderdalecra.com
SUMMARY:Jack and Jill Health Fair
DESCRIPTION:
URL:https://fortlauderdalecra.com/event/jack-and-jill-health-fair/
END:VEVENT
BEGIN:VEVENT
DTSTART;TZID=UTC:20170209T183000
DTEND;TZID=UTC:20170209T210000
DTSTAMP:20260423T200341
CREATED:20170126T012009Z
LAST-MODIFIED:20170208T020945Z
UID:6640-1486665000-1486674000@fortlauderdalecra.com
SUMMARY:Sistrunk Festival and Parade - One cause three Events  (Feb 9\, Feb 25\, May 19 )
DESCRIPTION:
URL:https://fortlauderdalecra.com/event/sistrunk-festival-and-parade-one-cause-three-events-feb-9-feb-25-may-19/
LOCATION:300 S Andrews avenue fort lauderdale Fl 33311\, 300 S Andrews Avenue\, Fort Lauderdale\, FL\, 33311
END:VEVENT
BEGIN:VEVENT
DTSTART;TZID=UTC:20170208T173000
DTEND;TZID=UTC:20170208T210000
DTSTAMP:20260423T200341
CREATED:20170208T021204Z
LAST-MODIFIED:20170208T032104Z
UID:6662-1486575000-1486587600@fortlauderdalecra.com
SUMMARY:Neighbor Support Night tomorrow night\, February 8\, 2017\, from 5:30 p.m. to 8 p.m. at Fort Lauderdale City Hall.
DESCRIPTION:  \nYou’re invited to join fellow Community Builders and our neighbors at the Neighbor Support Night  February 8\, 2017\, from 5:30 p.m. to 8 p.m. at Fort Lauderdale City Hall. Neighbor Support Night offers family-friendly activities and an evening of elevating public spirit\, sharing big ideas\, and establishing meaningful connections with our neighbors to help make Fort Lauderdale a livable\, inclusive\, and sustainable city. For activities and details\, visit www.fortlauderdale.gov/nsn. \n  \nCity Hall Garage Parking Information  \n  \n\nA portion of the 1st floor of the City Hall Garage will be temporarily closed beginning late tonight through tomorrow night for Neighbor Support Night preparations.\nEnforcement will be suspended in the City Hall Garage all day February 8th.\nCommunity Builders may park on the 4th floor of the City Hall Garage and are encouraged to do so to reserve 1st floor parking spaces for our neighbors and visitors.\n\nYou may use either the south or north entrance to enter the garage.\nYou will need to pull a ticket\, but you will not be charged for parking.\nA gate attendant will let you out of the garage until 7 p.m. After 7 p.m.\, you will need to use the intercom and an attendant will open the gate remotely.\n\n\nParking spaces will be reserved in the first aisle of the garage (on the south side closest N.E. 1st Street) for the Mayor\, Commissioners\, City Manager\, and Assistant City Managers. There are also two parking spaces reserved for the City Attorney’s Office.\nDepartment Directors and Deputy Directors with reserved parking spaces are asked to use employee parking spaces while their parking spaces are unavailable.\nThe north employee parking lot will be roped off from 5 p.m. until 9 p.m. for the Board of Adjustment meeting scheduled for 6:30 p.m. in City Hall.\nPublic Safety Aides will be available tomorrow from 5 p.m. until 8 p.m. to help direct traffic.\n\n  \nPlease post this announcement for Community Builders who do not have email access. Thank you. \n  \n 
URL:https://fortlauderdalecra.com/event/neighbor-support-night-tomorrow-night-february-8-2017-from-530-p-m-to-8-p-m-at-fort-lauderdale-city-hall/
END:VEVENT
BEGIN:VEVENT
DTSTART;TZID=UTC:20170203T030000
DTEND;TZID=UTC:20170203T080000
DTSTAMP:20260423T200341
CREATED:20170126T012610Z
LAST-MODIFIED:20170126T012610Z
UID:6644-1486090800-1486108800@fortlauderdalecra.com
SUMMARY:2017 Black History Celebration - Fish Fry @Burrows Electric Company
DESCRIPTION:
URL:https://fortlauderdalecra.com/event/2017-black-history-celebration-fish-fry-burrows-electric-company/
END:VEVENT
BEGIN:VEVENT
DTSTART;TZID=UTC:20170124T170000
DTEND;TZID=UTC:20170124T190000
DTSTAMP:20260423T200341
CREATED:20170109T163647Z
LAST-MODIFIED:20170109T163647Z
UID:6551-1485277200-1485284400@fortlauderdalecra.com
SUMMARY:CRA Open House - January 24th\, 5-7pm  914 Sistrunk Blvd Suite 200
DESCRIPTION:CRA Open House – January 24th\, 5-7pm  914 Sistrunk Blvd Suite 200\, Come Learn About Our Programs And Services! \n3622 CRA Open House January 2017_flyer (1) (1)
URL:https://fortlauderdalecra.com/event/cra-open-house-january-24th-5-7pm-914-sistrunk-blvd-suite-200/
LOCATION:Fort Lauderdale CRA Office\, 914 Northwest 6th Street Suite 200\, Fort Lauderdale\, FL\, 333311\, United States
END:VEVENT
BEGIN:VEVENT
DTSTART;TZID=UTC:20170123T080000
DTEND;TZID=UTC:20170123T170000
DTSTAMP:20260423T200341
CREATED:20170203T090003Z
LAST-MODIFIED:20170126T010437Z
UID:6624-1485158400-1485190800@fortlauderdalecra.com
SUMMARY:Burrows Electric Company 2017 Black History Celebration  & Fish Fry
DESCRIPTION:Burrows Electric Company 2017 Black History Celebration  & Fish Fry @ 3pm \n1552 NW 6th Street (Sistrunk Blvd)  Fort Lauderdale
URL:https://fortlauderdalecra.com/event/burrows-electric-company-2017-black-history-celebration-fish-fry/
END:VEVENT
BEGIN:VEVENT
DTSTART;TZID=UTC:20161220T180000
DTEND;TZID=UTC:20161220T193000
DTSTAMP:20260423T200341
CREATED:20160817T210752Z
LAST-MODIFIED:20160817T210752Z
UID:6234-1482256800-1482262200@fortlauderdalecra.com
SUMMARY:City Commission Regular Meeting
DESCRIPTION:
URL:https://fortlauderdalecra.com/event/city-commission-regular-meeting-7/
LOCATION:City Hall\, Commission Chambers\, 100 N. Andrews Avenue\, Fort Lauderdale\, FL\, 33301\, United States
END:VEVENT
BEGIN:VEVENT
DTSTART;TZID=UTC:20161220T133000
DTEND;TZID=UTC:20161220T150000
DTSTAMP:20260423T200341
CREATED:20160817T210012Z
LAST-MODIFIED:20160817T210012Z
UID:6227-1482240600-1482246000@fortlauderdalecra.com
SUMMARY:City Commission Conference Meeting
DESCRIPTION:
URL:https://fortlauderdalecra.com/event/city-commission-conference-meeting-8/
LOCATION:City Hall\, 8th Floor Conference Room\, 100 N. Andrews Avenue\, Fort Lauderdale\, FL\, 33301\, United States
END:VEVENT
BEGIN:VEVENT
DTSTART;TZID=America/New_York:20161209T170000
DTEND;TZID=America/New_York:20161209T230000
DTSTAMP:20260423T200341
CREATED:20160817T204610Z
LAST-MODIFIED:20160817T204610Z
UID:6215-1481302800-1481324400@fortlauderdalecra.com
SUMMARY:Food In Motion at Peter Feldman Park in Fort Lauderdale
DESCRIPTION:Join local artisans\, farmers\, and food trucks on the second Friday of each month at Peter Feldman Park from 5-11pm for FOOD IN MOTION; An after dark green market & artisan food event!\nEvent Highlights \n    Artisan Food Market\n    Fresh Produce\n    Food Trucks\n    Live Music\n    Vegan Options\n    Gourmet Baked Goods\n    Locally Made Products & More \nFlagler Village Farm\n– Fresh Picked Organic Produce on Site\n– Meet Local Farmers\n– Learn About Urban Farming in FTL \nNighttime in the Park\n– FREE Beer for 21+\n– Picnic In The Park (Bring a blanket or chair!)\n– Open Playground for Kids\n– Bring Your Own: Board Games\, Crafts & Activities \nFREE ADMISSION. Free street parking nearby.
URL:https://fortlauderdalecra.com/event/food-in-motion-at-peter-feldman-park-in-fort-lauderdale-4/
LOCATION:Peter Feldman Park\, 310 NE 6th Street\, Fort Lauderdale\, FL\, 33304\, United States
ATTACH;FMTTYPE=image/jpeg:https://fortlauderdalecra.com/wp-content/uploads/2016/08/Food-in-Motion.jpg
END:VEVENT
BEGIN:VEVENT
DTSTART;TZID=UTC:20161206T180000
DTEND;TZID=UTC:20161206T193000
DTSTAMP:20260423T200341
CREATED:20160817T210532Z
LAST-MODIFIED:20160817T210532Z
UID:6232-1481047200-1481052600@fortlauderdalecra.com
SUMMARY:City Commission Regular Meeting
DESCRIPTION:
URL:https://fortlauderdalecra.com/event/city-commission-regular-meeting-6/
LOCATION:City Hall\, Commission Chambers\, 100 N. Andrews Avenue\, Fort Lauderdale\, FL\, 33301\, United States
END:VEVENT
BEGIN:VEVENT
DTSTART;TZID=UTC:20161206T133000
DTEND;TZID=UTC:20161206T150000
DTSTAMP:20260423T200341
CREATED:20160817T205920Z
LAST-MODIFIED:20160817T205920Z
UID:6226-1481031000-1481036400@fortlauderdalecra.com
SUMMARY:City Commission Conference Meeting
DESCRIPTION:
URL:https://fortlauderdalecra.com/event/city-commission-conference-meeting-7/
LOCATION:City Hall\, 8th Floor Conference Room\, 100 N. Andrews Avenue\, Fort Lauderdale\, FL\, 33301\, United States
END:VEVENT
BEGIN:VEVENT
DTSTART;TZID=UTC:20161203T160000
DTEND;TZID=UTC:20161203T200000
DTSTAMP:20260423T200341
CREATED:20160929T220541Z
LAST-MODIFIED:20160929T220640Z
UID:6366-1480780800-1480795200@fortlauderdalecra.com
SUMMARY:Calling All Creatives & Artists: Destination Sistrunk Cultural Marketplace
DESCRIPTION:Deadline to apply: October 10\, 2016 5:00pm \nMore Information Here
URL:https://fortlauderdalecra.com/event/calling-all-creatives-artists-destination-sistrunk-cultural-marketplace/
LOCATION:Delevoe Park\, 2520 NW 6th St\, Fort Lauderdale\, FL\, 33311\, United States
END:VEVENT
BEGIN:VEVENT
DTSTART;TZID=UTC:20161203T140000
DTEND;TZID=UTC:20161203T180000
DTSTAMP:20260423T200341
CREATED:20161129T232012Z
LAST-MODIFIED:20161129T232012Z
UID:6542-1480773600-1480788000@fortlauderdalecra.com
SUMMARY:Destination Sistrunk Cultural Marketplace
DESCRIPTION:
URL:https://fortlauderdalecra.com/event/destination-sistrunk-cultural-marketplace/
LOCATION:Delevoe Park\, 2520 NW 6th St\, Fort Lauderdale\, FL\, 33311\, United States
CATEGORIES:Fort Lauderdale,NPFCRA
END:VEVENT
BEGIN:VEVENT
DTSTART;TZID=UTC:20161202T170000
DTEND;TZID=UTC:20161202T230000
DTSTAMP:20260423T200341
CREATED:20161129T224906Z
LAST-MODIFIED:20161202T221231Z
UID:6534-1480698000-1480719600@fortlauderdalecra.com
SUMMARY:Light Up Sistrunk
DESCRIPTION:[vc_row row_type=”row” use_row_as_full_screen_section=”no” type=”full_width” angled_section=”no” text_align=”left” background_image_as_pattern=”without_pattern” css_animation=””][vc_column][vc_column_text] \nJoin us on Historic Sistrunk Boulevard on December 2 for the 10th Annual Light Up Sistrunk!\nEvent features activities for the entire family\nBe part of the excitement on Friday\, December 2nd from 5:00 – 9:00 pm when Historic Sistrunk Boulevard comes alive at the 10th Annual Light Up Sistrunk event.  This FREE holiday spectacular takes place along Sistrunk Boulevard between NW 9th and NW 11th Avenues and offers activities for the entire family.  Highlights include: \nENTERTAINMENT | MAIN STAGE | Sistrunk & NW 9 Avenue\n5:00 pm – Kuumba Dancers and PLAY After-School Chorus\n6:00 pm – Ladies of Soul\n7:00 pm – Dillard High School Jazz Ensemble\n8:00 pm – Larry Dog Band \nWALGREENS TOY GIVEAWAY | 6:30 pm | Sistrunk & NW 10 Terrace \nTREE LIGHTING CEREMONY | 7:00 pm | Sistrunk & NW 10 Avenue \nWALGREENS HEALTH SCREENINGS | Sistrunk & NW 11 Avenue \nKIDS ZONE | Southwest corner of Sistrunk & NW 10 Avenue\nFeaturing pony rides\, a petting zoo\, hands-on reptile exhibit\, train rides; inflatables; arts-n-crafts; face painting\, and Santa Claus \nTEEN ZONE | Northeast corner of Sistrunk & NW 10 Terrace\nFeaturing a DJ\, rock wall\, bobbing heads\, game trucks\, and more! \nPlus fabulous food trucks\, sweets\, and holiday cheer![/vc_column_text][vc_separator type=”normal”][vc_empty_space][/vc_column][/vc_row][vc_row row_type=”row” use_row_as_full_screen_section=”no” type=”full_width” angled_section=”no” text_align=”left” background_image_as_pattern=”without_pattern” css_animation=””][vc_column width=”1/3″][vc_single_image image=”6546″ img_size=”full” onclick=”link_image” qode_css_animation=””][/vc_column][vc_column width=”2/3″][vc_column_text]TRAFFIC ADVISORY:  Sistrunk Boulevard to be Closed\nfrom N.W. 9 Avenue to N.W. 12 Avenue on Friday\, December 2 \nFort Lauderdale – Beginning Friday\, December 2 at 9:00 AM\, Sistrunk Boulevard in Fort Lauderdale will be closed between N.W. 9 Avenue (Powerline Road) and N.W. 12 Avenue to allow crews to set up for the 10thAnnual Light Up Sistrunk event.  The three-block stretch of roadway will reopen at 1:00 AM on Saturday\, December 3. \nWhile the closure is in effect\, traffic will be detoured around the affected area via the following routes: \n• Eastbound traffic on Sistrunk Boulevard will be detoured using N.W. 13 Terrace (northbound) to N.W. 7 Street (eastbound). \n• Westbound traffic on Sistrunk Boulevard will be detoured using N.W. 9 Avenue (Powerline Road) (southbound) to N.W. 5 Street (westbound). \nSigns will be posted in the area to alert motorists of the detours.  Motorists should expect delays in and around the affected area. \nFor more information\, please contact the City of Fort Lauderdale 24-hour Customer Service Center at 954-828-8000 or visit www.fortlauderdale.gov.[/vc_column_text][/vc_column][/vc_row]
URL:https://fortlauderdalecra.com/event/light-up-sistrunk/
LOCATION:Fort Lauderdale CRA Office\, 914 Northwest 6th Street Suite 200\, Fort Lauderdale\, FL\, 333311\, United States
CATEGORIES:Historic Sistrunk,NPFCRA
END:VEVENT
BEGIN:VEVENT
DTSTART;TZID=America/New_York:20161126T200000
DTEND;TZID=America/New_York:20161126T200000
DTSTAMP:20260423T200341
CREATED:20160817T203746Z
LAST-MODIFIED:20160817T203746Z
UID:6207-1480190400-1480190400@fortlauderdalecra.com
SUMMARY:Fort Lauderdale Art Walk
DESCRIPTION:
URL:https://fortlauderdalecra.com/event/fort-lauderdale-art-walk-4/
END:VEVENT
BEGIN:VEVENT
DTSTART;TZID=UTC:20161118T173000
DTEND;TZID=UTC:20161118T210000
DTSTAMP:20260423T200341
CREATED:20161116T004146Z
LAST-MODIFIED:20161116T005207Z
UID:6518-1479490200-1479502800@fortlauderdalecra.com
SUMMARY:GENERAL PROVISON - VILLAGE HAPPY HOUR
DESCRIPTION:FREE Community Happy Hour\nWrap up Global Entrepreneurship Week with your favorite villagers while sipping a fall-themed cocktail! Bar Opens at 5:30pm
URL:https://fortlauderdalecra.com/event/village-happy-hour/
LOCATION:General Provision\, 525 NW 1st Ave\, Ft. Lauderdale\, FL\, United States
CATEGORIES:FAT Village,Flagler Village
ATTACH;FMTTYPE=image/png:https://fortlauderdalecra.com/wp-content/uploads/2016/11/53bb47ed-55a5-46bc-8830-a910a8cb9834.png
ORGANIZER;CN="General Provision":MAILTO:cowork@generalprovision.com
END:VEVENT
BEGIN:VEVENT
DTSTART;TZID=UTC:20161117T170000
DTEND;TZID=UTC:20161117T200000
DTSTAMP:20260423T200341
CREATED:20161116T004745Z
LAST-MODIFIED:20161117T215710Z
UID:6521-1479402000-1479412800@fortlauderdalecra.com
SUMMARY:OFFICE HOURS with Digital Grass
DESCRIPTION:[vc_row row_type=”row” use_row_as_full_screen_section=”no” type=”full_width” angled_section=”no” text_align=”left” background_image_as_pattern=”without_pattern” css_animation=””][vc_column][vc_column_text] \nCO-BUILD SESSIONS:\nCome get FREE CONSULTING & ADVICE from featured industry experts\nIf you cannot get get a spot\, please come and network! \nThursday • November 17\, 2016 • 5 P – 8 P\nAvenue Executive\n450 NW 7th Avenue • Fort Lauderdale\, Florida 33311 \nTHE VALUE IN OFFICE HOURS \nTechnology & Dev\nIdeas are great. Let us teach you how to turn your awesome idea in to a profitable piece of tech\nfor your business. And\, best tech to use. \nStrategy\nThe only way is up. Learn how to implement the best business and revenue models based\non current market trends. \nMarketing & Creative\nYou need to get your message out there. Learn how to properly plan\, execute\nand market your business for absolute growth \n[/vc_column_text][/vc_column][/vc_row][vc_row row_type=”row” use_row_as_full_screen_section=”no” type=”full_width” angled_section=”no” text_align=”center” background_image_as_pattern=”without_pattern” css_animation=””][vc_column]RSVP for APPOINTMENT[/vc_column][/vc_row]
URL:https://fortlauderdalecra.com/event/office-hours-with-digital-grass/
LOCATION:Avenue Executive\, 405 NW 7th Avenue\, Fort Lauderdale \, 33311\, United States
CATEGORIES:Flagler Village,Historic Sistrunk,Progresso Village
ATTACH;FMTTYPE=image/jpeg:https://fortlauderdalecra.com/wp-content/uploads/2016/11/digigrass_OfficeHours-nov17-IG.jpg
END:VEVENT
BEGIN:VEVENT
DTSTART;TZID=UTC:20161115T183000
DTEND;TZID=UTC:20161115T210000
DTSTAMP:20260423T200341
CREATED:20161116T005047Z
LAST-MODIFIED:20161116T005128Z
UID:6513-1479234600-1479243600@fortlauderdalecra.com
SUMMARY:GENERAL PROVISION  - ENDEAVOR PRESENTS: PITCH CRAFT
DESCRIPTION:
URL:https://fortlauderdalecra.com/event/endeavor-presents-pitch-craft-2/
LOCATION:General Provision\, 525 NW 1st Ave\, Ft. Lauderdale\, FL\, United States
CATEGORIES:FAT Village
END:VEVENT
BEGIN:VEVENT
DTSTART;TZID=UTC:20161115T183000
DTEND;TZID=UTC:20161115T210000
DTSTAMP:20260423T200341
CREATED:20161116T003054Z
LAST-MODIFIED:20161116T003928Z
UID:6514-1479234600-1479243600@fortlauderdalecra.com
SUMMARY:ENDEAVOR PRESENTS: PITCH CRAFT
DESCRIPTION:[vc_row row_type=”row” use_row_as_full_screen_section=”no” type=”full_width” angled_section=”no” text_align=”left” background_image_as_pattern=”without_pattern” css_animation=””][vc_column][vc_column_text]A FREE workshop to perfect your elevator pitch and company’s messaging.\nCan you rattle off your company’s mission in 140 characters or less? If you had your dream investor in an elevator\, do you have your pitch ready? What does your investor deck look like?[/vc_column_text][/vc_column][/vc_row][vc_row row_type=”row” use_row_as_full_screen_section=”no” type=”full_width” angled_section=”no” text_align=”center” background_image_as_pattern=”without_pattern” css_animation=””][vc_column]SIGN UP[/vc_column][/vc_row]
URL:https://fortlauderdalecra.com/event/endeavor-presents-pitch-craft/
LOCATION:General Provision\, 525 NW 1st Ave\, Ft. Lauderdale\, FL\, United States
CATEGORIES:FAT Village,NPFCRA
ATTACH;FMTTYPE=image/png:https://fortlauderdalecra.com/wp-content/uploads/2016/11/0b560c0f-3e40-42c0-8357-55f5fd0de166.png
ORGANIZER;CN="General Provision":MAILTO:cowork@generalprovision.com
END:VEVENT
BEGIN:VEVENT
DTSTART;TZID=UTC:20161115T180000
DTEND;TZID=UTC:20161115T193000
DTSTAMP:20260423T200341
CREATED:20160817T210439Z
LAST-MODIFIED:20160817T210439Z
UID:6231-1479232800-1479238200@fortlauderdalecra.com
SUMMARY:City Commission Regular Meeting
DESCRIPTION:
URL:https://fortlauderdalecra.com/event/city-commission-regular-meeting-5/
LOCATION:City Hall\, Commission Chambers\, 100 N. Andrews Avenue\, Fort Lauderdale\, FL\, 33301\, United States
END:VEVENT
BEGIN:VEVENT
DTSTART;TZID=UTC:20161115T133000
DTEND;TZID=UTC:20161115T150000
DTSTAMP:20260423T200341
CREATED:20160817T205814Z
LAST-MODIFIED:20160817T205814Z
UID:6224-1479216600-1479222000@fortlauderdalecra.com
SUMMARY:City Commission Conference Meeting
DESCRIPTION:
URL:https://fortlauderdalecra.com/event/city-commission-conference-meeting-6/
LOCATION:City Hall\, 8th Floor Conference Room\, 100 N. Andrews Avenue\, Fort Lauderdale\, FL\, 33301\, United States
END:VEVENT
BEGIN:VEVENT
DTSTART;TZID=UTC:20161111T200000
DTEND;TZID=UTC:20161111T220000
DTSTAMP:20260423T200341
CREATED:20161019T223000Z
LAST-MODIFIED:20161019T223000Z
UID:6466-1478894400-1478901600@fortlauderdalecra.com
SUMMARY:Rockin' & Reelin'
DESCRIPTION:Featuring ‘Remember the Titans’
URL:https://fortlauderdalecra.com/event/rockin-reelin-2/
END:VEVENT
END:VCALENDAR