BEGIN:VCALENDAR
VERSION:2.0
PRODID:-//Fort Lauderdale CRA - ECPv6.15.20//NONSGML v1.0//EN
CALSCALE:GREGORIAN
METHOD:PUBLISH
X-WR-CALNAME:Fort Lauderdale CRA
X-ORIGINAL-URL:https://fortlauderdalecra.com
X-WR-CALDESC:Events for Fort Lauderdale CRA
REFRESH-INTERVAL;VALUE=DURATION:PT1H
X-Robots-Tag:noindex
X-PUBLISHED-TTL:PT1H
BEGIN:VTIMEZONE
TZID:UTC
BEGIN:STANDARD
TZOFFSETFROM:+0000
TZOFFSETTO:+0000
TZNAME:UTC
DTSTART:20170101T000000
END:STANDARD
END:VTIMEZONE
BEGIN:VEVENT
DTSTART;TZID=UTC:20220924T090000
DTEND;TZID=UTC:20220924T120000
DTSTAMP:20260423T143326
CREATED:20220906T222354Z
LAST-MODIFIED:20220906T222414Z
UID:8840-1664010000-1664020800@fortlauderdalecra.com
SUMMARY:Sistrunk Arts & Culture Plan Community Listening Sessions
DESCRIPTION:
URL:https://fortlauderdalecra.com/event/sistrunk-arts-culture-plan-community-listening-sessions/
LOCATION:LA Lee YMCA Mizell Community Center\, 1409 NW 6th Street\, 33311\, United States
END:VEVENT
BEGIN:VEVENT
DTSTART;TZID=UTC:20220804T170000
DTEND;TZID=UTC:20220804T190000
DTSTAMP:20260423T143326
CREATED:20220728T230211Z
LAST-MODIFIED:20220728T230211Z
UID:8811-1659632400-1659639600@fortlauderdalecra.com
SUMMARY:Broward UP Adult Education Info Session @ YMCA
DESCRIPTION:
URL:https://fortlauderdalecra.com/event/broward-up-adult-education-info-session-ymca/
LOCATION:LA Lee YMCA Mizell Community Center\, 1409 NW 6th Street\, 33311\, United States
END:VEVENT
BEGIN:VEVENT
DTSTART;VALUE=DATE:20220729
DTEND;VALUE=DATE:20220731
DTSTAMP:20260423T143326
CREATED:20220728T222625Z
LAST-MODIFIED:20220728T222625Z
UID:8805-1659052800-1659225599@fortlauderdalecra.com
SUMMARY:Patio Bar & Pizza Grand Opening
DESCRIPTION:Patio Bar and Pizza \, a new restaurant and bar located in Fort Lauderdale’s Historic Progresso Plaza is celebrating its grand opening this Friday\, July 29 at 5:00 PM . The pizzeria offers an affordable menu comprised of artisan pizza and flatbread\, craft beer\, wines and cocktails in a comfortable environment. \nThe restaurant received a forgivable loan ($225\,000) from the Fort Lauderdale Community Redevelopment Agency‘s Property and Business Incentive program to assist with interior and exterior renovations to the near 100 year old building. \nThe CRA’s Property and Business Incentive program has a special emphasis on attracting new restaurants to the area for the purpose of creating a dining destination and other cluster of uses that will create a sense of community. CRA funding not only helped to create this superior restaurant for patrons to enjoy \, but also helps to assure the success of the restaurant for years to come. \nThe  restaurant is located at 901 Progresso Drive\, #114\, Fort Lauderdale\, FL. For more information Call 954-740-6000 or visit PatioBarPizza.com. \n  \n \n 
URL:https://fortlauderdalecra.com/event/patio-bar-pizza-grand-opening/
END:VEVENT
BEGIN:VEVENT
DTSTART;TZID=UTC:20220520T180000
DTEND;TZID=UTC:20220520T220000
DTSTAMP:20260423T143326
CREATED:20220426T024146Z
LAST-MODIFIED:20220505T223924Z
UID:8668-1653069600-1653084000@fortlauderdalecra.com
SUMMARY:Finally Friday on Sistrunk - Grand Opening of L.A. Lee Mizell YMCA Community Center
DESCRIPTION:Finally Friday on Sistrunk returns May 20th  at Provident Park\, located at 1412 NW 6th Street from 6:00 p.m. to 10:00 p.m.\,  to celebrate the grand opening  of the new L.A. Lee YMCA / Mizell Community Center. Join us for an evening of live entertainment\, food trucks\, a variety of vendors\, a Kids zone and so much more.  Attendees can tour the  YMCA facility  and sign-up for annual memberships. Info: www.Fortlauderdalecra.com.
URL:https://fortlauderdalecra.com/event/finally-friday-on-sistrunk-grand-opening-of-l-a-lee-ymca-community-center/
LOCATION:Finally Friday on Sistrunk\, 1412 NW 6th Street\, Fort Lauderdale\, FL\, 33311
END:VEVENT
BEGIN:VEVENT
DTSTART;TZID=UTC:20220401T180000
DTEND;TZID=UTC:20220401T220000
DTSTAMP:20260423T143326
CREATED:20220224T234427Z
LAST-MODIFIED:20220224T234427Z
UID:8606-1648836000-1648850400@fortlauderdalecra.com
SUMMARY:Finally Friday on Sistrunk
DESCRIPTION:
URL:https://fortlauderdalecra.com/event/finally-friday-on-sistrunk-5/
LOCATION:Finally Friday on Sistrunk\, 1412 NW 6th Street\, Fort Lauderdale\, FL\, 33311
END:VEVENT
BEGIN:VEVENT
DTSTART;TZID=UTC:20220128T180000
DTEND;TZID=UTC:20220128T220000
DTSTAMP:20260423T143326
CREATED:20211228T220010Z
LAST-MODIFIED:20211228T220010Z
UID:8576-1643392800-1643407200@fortlauderdalecra.com
SUMMARY:Finally Friday on Sistrunk
DESCRIPTION:
URL:https://fortlauderdalecra.com/event/finally-friday-on-sistrunk-4/
LOCATION:Finally Friday on Sistrunk\, 1412 NW 6th Street\, Fort Lauderdale\, FL\, 33311
END:VEVENT
BEGIN:VEVENT
DTSTART;TZID=UTC:20211217T180000
DTEND;TZID=UTC:20211217T220000
DTSTAMP:20260423T143326
CREATED:20210921T214109Z
LAST-MODIFIED:20211110T223813Z
UID:8449-1639764000-1639778400@fortlauderdalecra.com
SUMMARY:Finally Friday on Sistrunk
DESCRIPTION:Finally Friday on Sistrunk is a family-friendly event that features presentations about the Fort Lauderdale CRA\, food trucks\, vendors\, art\, music\, live entertainment\,  interactive kids activities and much more. For more information and vender opportunities contact the CRA at 954-828-8229 or 954-828-4508.
URL:https://fortlauderdalecra.com/event/finally-friday-on-sistrunk-3/
CATEGORIES:Historic Sistrunk,NPFCRA
END:VEVENT
BEGIN:VEVENT
DTSTART;TZID=UTC:20211112T180000
DTEND;TZID=UTC:20211112T220000
DTSTAMP:20260423T143326
CREATED:20210921T211325Z
LAST-MODIFIED:20210921T214253Z
UID:8444-1636740000-1636754400@fortlauderdalecra.com
SUMMARY:Finally Friday on Sistrunk
DESCRIPTION:Have you heard the exciting news? Finally Friday on Sistrunk is back at a new location starting November 12th\, 2021. \nFor more information and vendor opportunities contact the Fort Lauderdale\nCRA at 954-828-4517. \nThe family-friendly event features presentations about the CRA \, food trucks\, vendors\, art\, music\, live entertainment\, interactive kids activities and much more.
URL:https://fortlauderdalecra.com/event/finallyfridayisback/
LOCATION:Provident Park\, 1412 NW 6th St\,\, Fort Lauderdale\, FL\, 33311\, United States
CATEGORIES:Historic Sistrunk,NPFCRA
END:VEVENT
BEGIN:VEVENT
DTSTART;TZID=UTC:20210924T160000
DTEND;TZID=UTC:20210924T200000
DTSTAMP:20260423T143326
CREATED:20210921T225000Z
LAST-MODIFIED:20210921T225000Z
UID:8452-1632499200-1632513600@fortlauderdalecra.com
SUMMARY:Blue Tree Cafe Tasting
DESCRIPTION:Blue Tree Café is hosting a tasting on September 24th\, 2021  outside the Fort Lauderdale  CRA office in the parking lot from 4:00p.m. to 8:00pm. The local business is slated to open up at the new plaza located along Powerline Road and Sistrunk Blvd with support from the Fort Lauderdale CRA. They are having a  pop-up to provide a tasting of their food\, which is primarily southern style / soul food vegan. A $20 donation is requested. \n 
URL:https://fortlauderdalecra.com/event/blue-tree-cafe-tasting/
LOCATION:Fort Lauderdale CRA Office\, 914 Northwest 6th Street Suite 200\, Fort Lauderdale\, FL\, 333311\, United States
END:VEVENT
BEGIN:VEVENT
DTSTART;TZID=UTC:20210715T093000
DTEND;TZID=UTC:20210715T110000
DTSTAMP:20260423T143326
CREATED:20210712T203728Z
LAST-MODIFIED:20210712T203728Z
UID:8386-1626341400-1626346800@fortlauderdalecra.com
SUMMARY:Ground Breaking Ceremony  Donna's Caribbean Restaurant
DESCRIPTION:
URL:https://fortlauderdalecra.com/event/ground-breaking-ceremony-donnas-caribbean-restaurant/
END:VEVENT
BEGIN:VEVENT
DTSTART;TZID=UTC:20210713T150000
DTEND;TZID=UTC:20210713T170000
DTSTAMP:20260423T143326
CREATED:20210712T204026Z
LAST-MODIFIED:20210712T204026Z
UID:8389-1626188400-1626195600@fortlauderdalecra.com
SUMMARY:Northwest-Progresso-Flagler Heights Redevelopment Advisory Board
DESCRIPTION:
URL:https://fortlauderdalecra.com/event/northwest-progresso-flagler-heights-redevelopment-advisory-board/
LOCATION:City Hall\, 8th Floor Conference Room\, 100 N. Andrews Avenue\, Fort Lauderdale\, FL\, 33301\, United States
END:VEVENT
BEGIN:VEVENT
DTSTART;TZID=UTC:20201217T093000
DTEND;TZID=UTC:20201217T110000
DTSTAMP:20260423T143326
CREATED:20201216T012751Z
LAST-MODIFIED:20201216T012751Z
UID:8251-1608197400-1608202800@fortlauderdalecra.com
SUMMARY:Ribbon-Cutting Ceremony Smitty's Wings Restaurant
DESCRIPTION:
URL:https://fortlauderdalecra.com/event/ribbon-cutting-ceremony-smittys-wings-restaurant/
END:VEVENT
BEGIN:VEVENT
DTSTART;TZID=UTC:20200327T173000
DTEND;TZID=UTC:20200327T220000
DTSTAMP:20260423T143326
CREATED:20200221T222038Z
LAST-MODIFIED:20200318T012711Z
UID:7795-1585330200-1585346400@fortlauderdalecra.com
SUMMARY:Postponed : Finally Friday on Sistrunk
DESCRIPTION:  \nFinally Friday on Sistrunk is a series of free outdoor events held on Sistrunk Boulevard.\nThe family-friendly event features presentations about the CRA area\, food trucks\, vendors\, art\, music\, live entertainment\, and an interactive kids’ zone. \nThe pop-up series will take place on the 4th Friday of the month on :\nMarch 27\, 2020\nApril 24\,2020\nMay 22\,2020\nJune 26\,2020\nJuly 24\,2020\nAugust 28\, 2020 \nFinally Friday takes place along the Historic Sistrunk Boulevard  from N.W. 13th to N.W 11th Avenue  from 5:30 p.m. to 10:00 p.m.\nFor more information and vendor opportunities contact the CRA at (954) 828-4617 or visit www.fortlauderdalecra.com
URL:https://fortlauderdalecra.com/event/finally-friday-on-sistrunk-2/
LOCATION:Finally Friday on Sistrunk\, 1412 NW 6th Street\, Fort Lauderdale\, FL\, 33311
END:VEVENT
BEGIN:VEVENT
DTSTART;TZID=UTC:20200118T090000
DTEND;TZID=UTC:20200118T120000
DTSTAMP:20260423T143326
CREATED:20200114T230849Z
LAST-MODIFIED:20200114T230849Z
UID:7777-1579338000-1579348800@fortlauderdalecra.com
SUMMARY:LA LEE YMCA Mizell Community Center Job Fair
DESCRIPTION:
URL:https://fortlauderdalecra.com/event/la-lee-ymca-mizell-community-center-job-fair/
LOCATION:LA Lee YMCA Mizell Community Center\, 1409 NW 6th Street\, 33311\, United States
END:VEVENT
BEGIN:VEVENT
DTSTART;TZID=UTC:20191206T170000
DTEND;TZID=UTC:20191206T210000
DTSTAMP:20260423T143326
CREATED:20191114T230441Z
LAST-MODIFIED:20191114T230659Z
UID:7756-1575651600-1575666000@fortlauderdalecra.com
SUMMARY:Light Up Sistrunk
DESCRIPTION:
URL:https://fortlauderdalecra.com/event/light-up-sistrunk-2/
LOCATION:FL
END:VEVENT
BEGIN:VEVENT
DTSTART;TZID=UTC:20191025T173000
DTEND;TZID=UTC:20191025T220000
DTSTAMP:20260423T143326
CREATED:20190621T194342Z
LAST-MODIFIED:20191018T024928Z
UID:7572-1572024600-1572040800@fortlauderdalecra.com
SUMMARY:Finally Friday on Sistrunk
DESCRIPTION:Join us for the Harvest Edition of Finally Friday on Sistrunk on 10/25 from 5:30 PM-10:00 PM on NW 10th Avenue & Sistrunk Blvd. Performing live\, soul and rock Diva April Raquel & Deep Fried Funk Band. Music from 99 Jamz DJ Lucky C. Featuring a Kids zone with carnival games and treats\, a variety of food trucks\,vendors and much more. \nHosted by Chico the Virgo of Hot 105. Presented by the City of Fort Lauderdale\, Fort Lauderdale CRA and Vice-Mayor Robert McKinzie. \nFor more information visit www.fortlauderdalecra.com
URL:https://fortlauderdalecra.com/event/finally-friday-on-sistrunk/
LOCATION:Finally Friday Pop Up\, NW 10th Terrace & Sistrunk Blvd\, Fort Lauderdale\, FL\, 33311\, United States
CATEGORIES:Fort Lauderdale,NPFCRA
END:VEVENT
BEGIN:VEVENT
DTSTART;TZID=UTC:20190805T150000
DTEND;TZID=UTC:20190805T160000
DTSTAMP:20260423T143326
CREATED:20190731T234330Z
LAST-MODIFIED:20190731T234330Z
UID:7656-1565017200-1565020800@fortlauderdalecra.com
SUMMARY:EVALUATION COMMITTEE MEETING
DESCRIPTION:EVALUATION COMMITTEE MEETING for Review of Proposals for CRA property Located at 822-824 Sistrunk Blvd and 541 NW  8th Avenue\nAn Evaluation Committee meeting for review of proposers will be held on : \nDate: Monday\, August 5\, 2019 \nTime: 3:00 P.M. \nLocation: Office of the Fort Lauderdale Community Redevelopment Agency\n914 Sistrunk Blvd.\, Suit 200 (Conference Room) \nThe purpose of this meeting will be to evaluate and score each proposal based on criteria established in the Request for Proposal. \nThis is a public meeting that is open to the general public. Please ask security and / or reception should you require access. \nFor comments or questions\, contact: Bob Wojcik\, CRA Housing & Economic Development Manager at (954) 828-4521 or email: Rwojcik@fortlauderdale.gov \nTwo or more City of Fort Lauderdale Commissioners or members of a Fort Lauderdale Advisory Board or Committee may be in attendance at this meeting. \nIf a person decides to appeal any decision made with respect to any matter considered at this public meeting or hearing; he/she will need to ensure that a verbatim record of the proceedings is made\, which record includes the testimony and evidence upon which the appeal is to be based. \nIf you desire auxiliary services to assist in viewing or hearing the meeting or reading agendas and minutes for the meetings\, please contact the City Clerk’s Office at 954-828-5002 and arrangements will be made to provide these services.
URL:https://fortlauderdalecra.com/event/evaluation-committee-meeting/
LOCATION:Fort Lauderdale CRA Office\, 914 Northwest 6th Street Suite 200\, Fort Lauderdale\, FL\, 333311\, United States
END:VEVENT
BEGIN:VEVENT
DTSTART;TZID=UTC:20190523T183000
DTEND;TZID=UTC:20190523T200000
DTSTAMP:20260423T143326
CREATED:20190516T013706Z
LAST-MODIFIED:20190516T013841Z
UID:7433-1558636200-1558641600@fortlauderdalecra.com
SUMMARY:NPF-CRA Mobility Master Plan Public Meeting
DESCRIPTION:A transportation plan is underway for the Northwest-Progresso-Flagler Heights Community Redevelopment Area (NPF CRA). \nThis is a community-based effort that is analyzing how people move around this community (by foot\, bike\, transit\, car\, or o any other means). Through this process we will discuss any concerns people may have in trying to get to places\, and what ways would people prefer to get around if there were choices. The project team will also help the community come up with a list of transportation improvements that will help improve existing conditions and define the mobility vision for the NPF CRA area for years to come. \nJoin us at the next Public Meeting. Flyer below !
URL:https://fortlauderdalecra.com/event/npf-cra-mobility-master-plan-public-meeting/
LOCATION:Midtown Commerce Center\, 1033 NW 6th Street #206\, Fort Lauderdale\, FL\, 33311\, United States
END:VEVENT
BEGIN:VEVENT
DTSTART;TZID=UTC:20190523T090000
DTEND;TZID=UTC:20190523T120000
DTSTAMP:20260423T143326
CREATED:20190515T225127Z
LAST-MODIFIED:20190515T225127Z
UID:7430-1558602000-1558612800@fortlauderdalecra.com
SUMMARY:NPF-CRA Mobility Master Plan
DESCRIPTION:A transportation plan is underway for the Northwest-Progresso-Flagler Heights Community Redevelopment Area (NPF CRA). \nThis is a community-based effort that is analyzing how people move around this community (by foot\, bike\, transit\, car\, or o any other means). Through this process we will discuss any concerns people may have in trying to get to places\, and what ways would people prefer to get around if there were choices. The project team will also help the community come up with a list of transportation improvements that will help improve existing conditions and define the mobility vision for the NPF CRA area for years to come. \nJoin us at the next community workshops. \nTopic: Understanding the context & developing concept alternatives for NW 7th and NW 9th Avenues.
URL:https://fortlauderdalecra.com/event/npf-cra-mobility-master-plan/
LOCATION:Midtown Commerce Center\, 1033 NW 6th Street #206\, Fort Lauderdale\, FL\, 33311\, United States
END:VEVENT
BEGIN:VEVENT
DTSTART;TZID=UTC:20190522T090000
DTEND;TZID=UTC:20190522T090000
DTSTAMP:20260423T143326
CREATED:20190515T221913Z
LAST-MODIFIED:20190516T013506Z
UID:7426-1558515600-1558515600@fortlauderdalecra.com
SUMMARY:NPF-CRA Mobility Master Plan Workshop
DESCRIPTION:A transportation plan is underway for the Northwest-Progresso-Flagler Heights Community Redevelopment Area (NPF CRA). \nThis is a community-based effort that is analyzing how people move around this community (by foot\, bike\, transit\, car\, or o any other means). Through this process we will discuss any concerns people may have in trying to get to places\, and what ways would people prefer to get around if there were choices. The project team will also help the community come up with a list of transportation improvements that will help improve existing conditions and define the mobility vision for the NPF CRA area for years to come. \nJoin us at the next community workshops.Topic: Understanding the context & developing concept alternatives for NW 7th and NW 9th Avenues.
URL:https://fortlauderdalecra.com/event/npf-cra-mobility-master-plan-workshop/
END:VEVENT
BEGIN:VEVENT
DTSTART;TZID=UTC:20190521T143000
DTEND;TZID=UTC:20190521T143000
DTSTAMP:20260423T143326
CREATED:20190520T213756Z
LAST-MODIFIED:20190520T213756Z
UID:7490-1558449000-1558449000@fortlauderdalecra.com
SUMMARY:CRA Board Meeting
DESCRIPTION:
URL:https://fortlauderdalecra.com/event/cra-board-meeting/
LOCATION:City Hall\, 8th Floor Conference Room\, 100 N. Andrews Avenue\, Fort Lauderdale\, FL\, 33301\, United States
END:VEVENT
BEGIN:VEVENT
DTSTART;TZID=UTC:20190521T130000
DTEND;TZID=UTC:20190521T190000
DTSTAMP:20260423T143326
CREATED:20190515T220216Z
LAST-MODIFIED:20190515T221154Z
UID:7423-1558443600-1558465200@fortlauderdalecra.com
SUMMARY:NPF CRA Mobility Master Plan Open House
DESCRIPTION:A transportation plan is underway for the Northwest-Progresso-Flagler Heights Community Redevelopment Area (NPF CRA). \nThis is a community-based effort that is analyzing how people move around this community (by foot\, bike\, transit\, car\, or o any other means). Through this process we will discuss any concerns people may have in trying to get to places\, and what ways would people prefer to get around if there were choices. The project team will also help the community come up with a list of transportation improvements that will help improve existing conditions and define the mobility vision for the NPF CRA area for years to come. \nJoin us at the next community workshops. \nTopic: Understanding the context & developing concept alternatives for NW 7th and NW 9th Avenues.
URL:https://fortlauderdalecra.com/event/npf-cra-mobility-master-plan-open-house/
LOCATION:Midtown Commerce Center\, 1033 NW 6th Street #206\, Fort Lauderdale\, FL\, 33311\, United States
END:VEVENT
BEGIN:VEVENT
DTSTART;TZID=UTC:20190514T110000
DTEND;TZID=UTC:20190514T110000
DTSTAMP:20260423T143326
CREATED:20190502T224821Z
LAST-MODIFIED:20190502T225156Z
UID:7284-1557831600-1557831600@fortlauderdalecra.com
SUMMARY:La Lee YMCA Mizell Community Center Pre-Bid Meeting
DESCRIPTION:SUBCONTRACTOR BID OPPORTUNITY \nGulf Building LLC (GULF) will be accepting bids for Work associated with the new LA Lee YMCA Mizell Community Center in Ft. Lauderdale\, Fl. Subcontractors must contact GULF for bid documents and delivery requirements for their specific trade package. \nProject Description: New Construction of the LA Lee YMCA Mizell Community Center in Fort Lauderdale – a 4 Story\, +/- 72\,000 SF\, mixed use building with primary tenant the YMCA of SF. To include retail space\, classrooms\, meeting space\, main lobby\, locker rooms\, wellness\, offices\, gymnasium\, theater\, education labs\, support spaces\, site work\, site amenities\, and swimming pool. \nGULF is actively seeking participation from minority-owned firms/vendors/contractors\, women-owned firms/vendors/contractors\, or labor surplus area firms/vendors/contractors of the opportunity to bid on the Project\, with a minimum benchmark of Thirty Percent (30%) of minority participation. \nCritical Dates: \nPre-Bid Meeting No.1: 05/09/19 at 11:00 AM (All Trades) \nPre-Bid Meeting No.2: 05/14/19 at 11:00 AM (M/WBE Firms – Outreach) \n  \nMeeting Location: LA Lee YMCA Family Center 408 NW 14th Terrace\, Ft. Lauderdale\, FL 33311 Bid RFI Deadline: 05/24/19 at 3:00 PM \nSubcontractor Bids Due: 06/04/19 at 3:00 pm (via email or hard copy) \nGULF Contacts: Office (954) 492-9191\nMike Lanciault – michaell@gulfbuilding.com\nChris Curtis – chrisc@gulfbuilding.com\nMelissa Apolinario (Bid Documents) – melissaa@gulfbuilding.com \n633 SOUTH FEDERAL HIGHWAY #500 FORT LAUDERDALE\, FL 33301 \n 
URL:https://fortlauderdalecra.com/event/la-lee-ymca-mizell-community-center-pre-bid-meeting/
LOCATION:LA Lee YMCA Family Center\, 408 NW 14th
END:VEVENT
BEGIN:VEVENT
DTSTART;TZID=UTC:20190509T110000
DTEND;TZID=UTC:20190509T110000
DTSTAMP:20260423T143326
CREATED:20190502T223843Z
LAST-MODIFIED:20190502T224254Z
UID:7276-1557399600-1557399600@fortlauderdalecra.com
SUMMARY:LA Lee YMCA Mizell Community Center Sub Contractor Pre-Bid Meeting
DESCRIPTION:SUBCONTRACTOR BID OPPORTUNITY \nGulf Building LLC (GULF) will be accepting bids for Work associated with the new LA Lee YMCA Mizell Community Center in Ft. Lauderdale\, Fl. Subcontractors must contact GULF for bid documents and delivery requirements for their specific trade package. \nProject Description: New Construction of the LA Lee YMCA Mizell Community Center in Fort Lauderdale – a 4 Story\, +/- 72\,000 SF\, mixed use building with primary tenant the YMCA of SF. To include retail space\, classrooms\, meeting space\, main lobby\, locker rooms\, wellness\, offices\, gymnasium\, theater\, education labs\, support spaces\, site work\, site amenities\, and swimming pool. \nGULF is actively seeking participation from minority-owned firms/vendors/contractors\, women-owned firms/vendors/contractors\, or labor surplus area firms/vendors/contractors of the opportunity to bid on the Project\, with a minimum benchmark of Thirty Percent (30%) of minority participation. \nCritical Dates: \nPre-Bid Meeting No.1: 05/09/19 at 11:00 AM (All Trades) \nPre-Bid Meeting No.2: 05/14/19 at 11:00 AM (M/WBE Firms – Outreach) \n  \nMeeting Location: LA Lee YMCA Family Center 408 NW 14th Terrace\, Ft. Lauderdale\, FL 33311 Bid RFI Deadline: 05/24/19 at 3:00 PM \nSubcontractor Bids Due: 06/04/19 at 3:00 pm (via email or hard copy) \nGULF Contacts: Office (954) 492-9191\nMike Lanciault – michaell@gulfbuilding.com\nChris Curtis – chrisc@gulfbuilding.com\nMelissa Apolinario (Bid Documents) – melissaa@gulfbuilding.com \n633 SOUTH FEDERAL HIGHWAY #500 FORT LAUDERDALE\, FL 33301 \n 
URL:https://fortlauderdalecra.com/event/la-lee-ymca-mizell-community-center-sub-contractor-pre-bid-meeting/
LOCATION:LA Lee YMCA Family Center\, 408 NW 14th
END:VEVENT
BEGIN:VEVENT
DTSTART;TZID=UTC:20190508T100000
DTEND;TZID=UTC:20190508T110000
DTSTAMP:20260423T143326
CREATED:20190427T003836Z
LAST-MODIFIED:20190501T025731Z
UID:7214-1557309600-1557313200@fortlauderdalecra.com
SUMMARY:Smitty's Wings Groundbreaking Ceremony
DESCRIPTION:GROUNDBREAKING FOR SMITTY’S WINGS RESTAURANT ON SISTRUNK!\nWednesday\, May 8\, 10:00 AM \n1134 Sistrunk Boulevard – Fort Lauderdale\, FL 33311\nJoin the City of Fort Lauderdale\, the Fort Lauderdale Community Redevelopment Agency (CRA)\, friends and neighbors for a groundbreaking ceremony to celebrate the start of construction on Smitty’s Wings Restaurant! This locally owned and operated restaurant will specialize in signature chicken wings and flavorful sauces\, while creating a dining destination on Sistrunk Boulevard\, providing job opportunities\, and improving quality of life.
URL:https://fortlauderdalecra.com/event/smittys-wings-groundbreaking-ceremony/
LOCATION:1134 Sistrunk Blvd\, Fort Lauderdale\, FL\, 33311\, United States
CATEGORIES:NPFCRA
ATTACH;FMTTYPE=image/jpeg:https://fortlauderdalecra.com/wp-content/uploads/2019/04/Smittys-Wings.jpg
END:VEVENT
BEGIN:VEVENT
DTSTART;TZID=UTC:20190507T143000
DTEND;TZID=UTC:20190507T143000
DTSTAMP:20260423T143326
CREATED:20190506T200448Z
LAST-MODIFIED:20190506T200448Z
UID:7290-1557239400-1557239400@fortlauderdalecra.com
SUMMARY:Fort lauderdale CRA Board Meeting
DESCRIPTION:
URL:https://fortlauderdalecra.com/event/fort-lauderdale-cra-board-meeting/
LOCATION:City Hall\, 8th Floor Conference Room\, 100 N. Andrews Avenue\, Fort Lauderdale\, FL\, 33301\, United States
END:VEVENT
BEGIN:VEVENT
DTSTART;TZID=UTC:20190417T183000
DTEND;TZID=UTC:20190417T200000
DTSTAMP:20260423T143326
CREATED:20190403T185938Z
LAST-MODIFIED:20190404T031223Z
UID:7121-1555525800-1555531200@fortlauderdalecra.com
SUMMARY:Mobility Master Plan Public Meeting
DESCRIPTION:If you travel through the Northwest Progresso Flagler Community Redevelopment Agency (CRA) area\, you’re invited to attend a public meeting on April 17th  about the ongoing mobility master plan.
URL:https://fortlauderdalecra.com/event/mobility-master-plan-public-meeting/
LOCATION:Midtown Commerce Center\, 1033 NW 6th Street #206\, Fort Lauderdale\, FL\, 33311\, United States
END:VEVENT
BEGIN:VEVENT
DTSTART;TZID=UTC:20190412T100000
DTEND;TZID=UTC:20190412T110000
DTSTAMP:20260423T143326
CREATED:20190403T011254Z
LAST-MODIFIED:20190403T011455Z
UID:7110-1555063200-1555066800@fortlauderdalecra.com
SUMMARY:River Gardens / Sweeting Estates Groundbreaking Ceremony
DESCRIPTION:Join the City of Fort Lauderdale\, the Fort Lauderdale Community Redevelopment Agency (CRA) and DeAngelo Development for a groundbreaking ceremony to celebrate the start of construction on 11 new single-family homes located in the City’s River Gardens/ Sweeting Estates neighborhood. This project will help fullfill the CRA’s mission of providing quality housing opportunities; creating a safe\, healthy and active community; and enhancing the quality of life for our neighbors.
URL:https://fortlauderdalecra.com/event/river-gardens-sweeting-estates-ground-breaking-ceremony/
LOCATION:River Gardens / Sweeting Estates\, NW 21st Terrace and NW 4th Street\, Fort Lauderdale\, FL\, 33311\, United States
CATEGORIES:Historic Sistrunk
END:VEVENT
BEGIN:VEVENT
DTSTART;TZID=UTC:20181215T140000
DTEND;TZID=UTC:20181215T180000
DTSTAMP:20260423T143326
CREATED:20181205T202224Z
LAST-MODIFIED:20181210T204725Z
UID:6956-1544882400-1544896800@fortlauderdalecra.com
SUMMARY:Holiday In Sistrunk
DESCRIPTION:  \n‘‘Tis the season for holiday fun’ This Saturday HACFL will be hosting Holiday in Sistrunk 80th Anniversary Celebrations. December 15th from 2:00 PM-6: 00 PM. Come and take pictures with Santa\, gift giveaways\, watch a fashion show. They will have Food from community vendors and a Kid Zone. You don’t want to miss this fun packed event
URL:https://fortlauderdalecra.com/event/holiday-in-sistrunk/
LOCATION:821 NW 8TH CT. FORT LAUDERDALE\, FL 33311\, 821 NW 8TH CT\, Fort Lauderdale\, FL\, 33311\, United States
CATEGORIES:Historic Sistrunk
END:VEVENT
BEGIN:VEVENT
DTSTART;TZID=UTC:20181207T170000
DTEND;TZID=UTC:20181207T220000
DTSTAMP:20260423T143326
CREATED:20181130T233051Z
LAST-MODIFIED:20181130T233149Z
UID:6946-1544202000-1544220000@fortlauderdalecra.com
SUMMARY:Light Up Sistrunk 2018
DESCRIPTION:Light Up Sistrunk on Historic Sistrunk Boulevard\nNW 9th Avenue to NW 11th Avenue\n 
URL:https://fortlauderdalecra.com/event/light-up-sistrunk-2018/
LOCATION:Fort Lauderdale CRA Office\, 914 Northwest 6th Street Suite 200\, Fort Lauderdale\, FL\, 333311\, United States
ATTACH;FMTTYPE=image/jpeg:https://fortlauderdalecra.com/wp-content/uploads/2018/11/LIGHTUPWEB.jpg
END:VEVENT
END:VCALENDAR