BEGIN:VCALENDAR
VERSION:2.0
PRODID:-//Fort Lauderdale CRA - ECPv6.15.20//NONSGML v1.0//EN
CALSCALE:GREGORIAN
METHOD:PUBLISH
X-ORIGINAL-URL:https://fortlauderdalecra.com
X-WR-CALDESC:Events for Fort Lauderdale CRA
REFRESH-INTERVAL;VALUE=DURATION:PT1H
X-Robots-Tag:noindex
X-PUBLISHED-TTL:PT1H
BEGIN:VTIMEZONE
TZID:UTC
BEGIN:STANDARD
TZOFFSETFROM:+0000
TZOFFSETTO:+0000
TZNAME:UTC
DTSTART:20150101T000000
END:STANDARD
END:VTIMEZONE
BEGIN:VEVENT
DTSTART;TZID=UTC:20161118T173000
DTEND;TZID=UTC:20161118T210000
DTSTAMP:20260424T001134
CREATED:20161116T004146Z
LAST-MODIFIED:20161116T005207Z
UID:6518-1479490200-1479502800@fortlauderdalecra.com
SUMMARY:GENERAL PROVISON - VILLAGE HAPPY HOUR
DESCRIPTION:FREE Community Happy Hour\nWrap up Global Entrepreneurship Week with your favorite villagers while sipping a fall-themed cocktail! Bar Opens at 5:30pm
URL:https://fortlauderdalecra.com/event/village-happy-hour/
LOCATION:General Provision\, 525 NW 1st Ave\, Ft. Lauderdale\, FL\, United States
CATEGORIES:FAT Village,Flagler Village
ATTACH;FMTTYPE=image/png:https://fortlauderdalecra.com/wp-content/uploads/2016/11/53bb47ed-55a5-46bc-8830-a910a8cb9834.png
ORGANIZER;CN="General Provision":MAILTO:cowork@generalprovision.com
END:VEVENT
BEGIN:VEVENT
DTSTART;TZID=UTC:20161115T183000
DTEND;TZID=UTC:20161115T210000
DTSTAMP:20260424T001134
CREATED:20161116T005047Z
LAST-MODIFIED:20161116T005128Z
UID:6513-1479234600-1479243600@fortlauderdalecra.com
SUMMARY:GENERAL PROVISION  - ENDEAVOR PRESENTS: PITCH CRAFT
DESCRIPTION:
URL:https://fortlauderdalecra.com/event/endeavor-presents-pitch-craft-2/
LOCATION:General Provision\, 525 NW 1st Ave\, Ft. Lauderdale\, FL\, United States
CATEGORIES:FAT Village
END:VEVENT
BEGIN:VEVENT
DTSTART;TZID=UTC:20161115T183000
DTEND;TZID=UTC:20161115T210000
DTSTAMP:20260424T001134
CREATED:20161116T003054Z
LAST-MODIFIED:20161116T003928Z
UID:6514-1479234600-1479243600@fortlauderdalecra.com
SUMMARY:ENDEAVOR PRESENTS: PITCH CRAFT
DESCRIPTION:[vc_row row_type=”row” use_row_as_full_screen_section=”no” type=”full_width” angled_section=”no” text_align=”left” background_image_as_pattern=”without_pattern” css_animation=””][vc_column][vc_column_text]A FREE workshop to perfect your elevator pitch and company’s messaging.\nCan you rattle off your company’s mission in 140 characters or less? If you had your dream investor in an elevator\, do you have your pitch ready? What does your investor deck look like?[/vc_column_text][/vc_column][/vc_row][vc_row row_type=”row” use_row_as_full_screen_section=”no” type=”full_width” angled_section=”no” text_align=”center” background_image_as_pattern=”without_pattern” css_animation=””][vc_column]SIGN UP[/vc_column][/vc_row]
URL:https://fortlauderdalecra.com/event/endeavor-presents-pitch-craft/
LOCATION:General Provision\, 525 NW 1st Ave\, Ft. Lauderdale\, FL\, United States
CATEGORIES:FAT Village,NPFCRA
ATTACH;FMTTYPE=image/png:https://fortlauderdalecra.com/wp-content/uploads/2016/11/0b560c0f-3e40-42c0-8357-55f5fd0de166.png
ORGANIZER;CN="General Provision":MAILTO:cowork@generalprovision.com
END:VEVENT
END:VCALENDAR